BEGIN:VCALENDAR
VERSION:2.0
PRODID:-//GREILARK  - ECPv6.15.17.1//NONSGML v1.0//EN
CALSCALE:GREGORIAN
METHOD:PUBLISH
X-WR-CALNAME:GREILARK 
X-ORIGINAL-URL:https://greilark.com
X-WR-CALDESC:Events for GREILARK 
REFRESH-INTERVAL;VALUE=DURATION:PT1H
X-Robots-Tag:noindex
X-PUBLISHED-TTL:PT1H
BEGIN:VTIMEZONE
TZID:America/Vancouver
BEGIN:DAYLIGHT
TZOFFSETFROM:-0800
TZOFFSETTO:-0700
TZNAME:PDT
DTSTART:20240310T100000
END:DAYLIGHT
BEGIN:STANDARD
TZOFFSETFROM:-0700
TZOFFSETTO:-0800
TZNAME:PST
DTSTART:20241103T090000
END:STANDARD
BEGIN:DAYLIGHT
TZOFFSETFROM:-0800
TZOFFSETTO:-0700
TZNAME:PDT
DTSTART:20250309T100000
END:DAYLIGHT
BEGIN:STANDARD
TZOFFSETFROM:-0700
TZOFFSETTO:-0800
TZNAME:PST
DTSTART:20251102T090000
END:STANDARD
BEGIN:DAYLIGHT
TZOFFSETFROM:-0800
TZOFFSETTO:-0700
TZNAME:PDT
DTSTART:20260308T100000
END:DAYLIGHT
BEGIN:STANDARD
TZOFFSETFROM:-0700
TZOFFSETTO:-0800
TZNAME:PST
DTSTART:20261101T090000
END:STANDARD
END:VTIMEZONE
BEGIN:VEVENT
DTSTART;TZID=America/Vancouver:20251031T210000
DTEND;TZID=America/Vancouver:20251031T210000
DTSTAMP:20260421T024826
CREATED:20251015T010701Z
LAST-MODIFIED:20251015T025416Z
UID:1803-1761944400-1761944400@greilark.com
SUMMARY:All Hallows Eve – San Francisco – DNA Lounge
DESCRIPTION:🎃 Join Secret Psychedelica at DNA Lounge & Hubba Hubba Revue’s 23rd Annual All Hallows’ Eve for a dedicated psytrance room! \n👻 Graveyard Groove Guardians -> GREILARK (EvoWerx – Washington) • AEROMANCER (Alkhimia Records) • TUGADOOM (Fractal Factory) • OXASH (Fractal Factory) • 1BECOMING11 (Nexus) • MICHAEL LIU (Maharetta Records) \n💀 Decor -> FRACTAL FACTORY \n🎶 Plus three additional rooms of indie\, pop\, synthwave\, gothic\, and hip-hop – Check out the event page below for more information.
URL:https://greilark.com/event/all-hallows-eve-san-francisco-ca-dna-lounge-oct-31/
LOCATION:DNA Lounge\, 375 11th St\, San Francisco\, CA\, 94103\, United States
END:VEVENT
END:VCALENDAR